BEGIN:VCALENDAR
VERSION:2.0
PRODID:-//Library Market//iCal Export//EN
BEGIN:VEVENT
SUMMARY:Intro to Working with Pendulums
UID:38718
DTSTAMP:20260425T194100Z
DTSTART:20260718T180000Z
DTEND:20260718T193000Z
LOCATION:Main Library, 10 West Ramapo Rd., Garnerville, NY 10923, United S
 tates
ROOM: Community Room 301
DESCRIPTION:Learn to detect energy using pendulums or rods to improve your
  energy to promote healing, testing foods and vitamins.
URL:https://haverstraw.librarycalendar.com/event/intuition-38718
END:VEVENT
END:VCALENDAR
