BEGIN:VCALENDAR
VERSION:2.0
PRODID:-//Library Market//iCal Export//EN
BEGIN:VEVENT
SUMMARY:Soulful Dialogues Circle
UID:38719
DTSTAMP:20260424T145200Z
DTSTART:20260813T223000Z
DTEND:20260814T000000Z
LOCATION:Main Library, 10 West Ramapo Rd., Garnerville, NY 10923, United S
 tates
ROOM: Community Room 301
DESCRIPTION: Looking at experiences such as on spirituality, forgiveness,
  NDE&#039;s, (Near Death Experiences) or OBE&#039;s (out of body experienc
 es), and energy work.
URL:https://haverstraw.librarycalendar.com/event/intuition-38719
END:VEVENT
END:VCALENDAR
