BEGIN:VCALENDAR
VERSION:2.0
PRODID:-//Library Market//iCal Export//EN
BEGIN:VEVENT
SUMMARY:Exfoliating Face Scrub
UID:39168
DTSTAMP:20260423T071500Z
DTSTART:20261112T233000Z
DTEND:20261113T013000Z
LOCATION:Main Library, 10 West Ramapo Rd., Garnerville, NY 10923, United S
 tates
ROOM: Community Room 301
DESCRIPTION:Learn how to make this natural facial scrub! Used occasionally
  in your beauty routine, this is an excellent way to rejuvenate your skin!
URL:https://haverstraw.librarycalendar.com/event/exfoliating-face-scrub-39
 168
END:VEVENT
END:VCALENDAR
