BEGIN:VCALENDAR
VERSION:2.0
PRODID:-//Library Market//iCal Export//EN
BEGIN:VEVENT
SUMMARY:Mahjong for Beginners
UID:39292
DTSTAMP:20260421T193800Z
DTSTART:20260720T143000Z
DTEND:20260720T153000Z
LOCATION:Main Library, 10 West Ramapo Rd., Garnerville, NY 10923, United S
 tates
ROOM: Community Room 301
DESCRIPTION:Learn how to play Mahjong with instructor Regina Klenowsky. Yo
 u must be able to attend the first class in order to participate. Registra
 tion opens on May 20 for Haverstraw cardholders only. Registration for all
  others, space permittiing opens on May 27 for everyone else.
URL:https://haverstraw.librarycalendar.com/event/mahjong-beginners-39292
END:VEVENT
END:VCALENDAR
